BEGIN:VCALENDAR
VERSION:2.0
PRODID:-//wp-events-plugin.com//7.2.1//EN
TZID:Europe/Berlin
X-WR-TIMEZONE:Europe/Berlin
BEGIN:VEVENT
UID:146@dav-leitzachtal.de
DTSTART;TZID=Europe/Berlin;VALUE=DATE:20230219
DTEND;TZID=Europe/Berlin;VALUE=DATE:20230220
DTSTAMP:20221221T171701Z
URL:https://www.dav-leitzachtal.de/wp-touren/events/rodeln-rosskogelhuette
 -noerdl-stubaier-alpen/
SUMMARY:Rodeln\; Rosskogelhütte\, Nördl. Stubaier Alpen
DESCRIPTION:Rosskogelhütte 1778 m\, Nördl. Stubaier Alpen\nMittelschwere 
 Rodelbahn\, 8\,1 Km nach Perfuß\, Aufst. 2\,5 Std./930 Hm\nTP: 8.00 Uhr\,
  Bhf. Hausham\, Anmeldung bei Theo Müller\, 0174 8447642
CATEGORIES:Rodel-Tour
END:VEVENT
BEGIN:VTIMEZONE
TZID:Europe/Berlin
X-LIC-LOCATION:Europe/Berlin
BEGIN:STANDARD
DTSTART:20221030T020000
TZOFFSETFROM:+0200
TZOFFSETTO:+0100
TZNAME:CET
END:STANDARD
END:VTIMEZONE
END:VCALENDAR