BEGIN:VCALENDAR
VERSION:2.0
PRODID:-//wp-events-plugin.com//7.2.1//EN
TZID:Europe/Berlin
X-WR-TIMEZONE:Europe/Berlin
BEGIN:VEVENT
UID:29@dav-leitzachtal.de
DTSTART;TZID=Europe/Berlin:20210620T070000
DTEND;TZID=Europe/Berlin:20210620T170000
DTSTAMP:20210612T160603Z
URL:https://www.dav-leitzachtal.de/wp-touren/events/ritzer-grieskogel-sell
 reintal/
SUMMARY:Ritzer Grieskogel - Sellreintal
DESCRIPTION:20.6.2021 Treffpunkt: Kletterstadel Aurach um 7:00 Uhr. Gipfel 
 Ritzer Grieskogel 2884m und Bachwandkopf 2767m\n\nAufstieg ca. 950HM\, Zei
 t: Aufstieg ca. 3 Std. Abstieg ca. 2 1/2 Std. Anmeldung bitte bis 18.6. 20
  Uhr unter 0163 5502970
CATEGORIES:Bergtour
END:VEVENT
BEGIN:VTIMEZONE
TZID:Europe/Berlin
X-LIC-LOCATION:Europe/Berlin
BEGIN:DAYLIGHT
DTSTART:20210328T030000
TZOFFSETFROM:+0100
TZOFFSETTO:+0200
TZNAME:CEST
END:DAYLIGHT
END:VTIMEZONE
END:VCALENDAR