BEGIN:VCALENDAR
VERSION:2.0
PRODID:-//wp-events-plugin.com//7.2.1//EN
TZID:Europe/Berlin
X-WR-TIMEZONE:Europe/Berlin
BEGIN:VEVENT
UID:92@dav-leitzachtal.de
DTSTART;TZID=Europe/Berlin;VALUE=DATE:20220710
DTEND;TZID=Europe/Berlin;VALUE=DATE:20220711
DTSTAMP:20220420T000010Z
URL:https://www.dav-leitzachtal.de/wp-touren/events/ritzer-grieskogel-2884
 -m-buchwandkopf-2762-m-sellrain/
SUMMARY:Ritzer Grieskogel 2884 m\, Buchwandkopf 2762 m\, Sellrain
DESCRIPTION:Mittelschwere\, aussichtsreiche Bergtour\, Aufst. v. P Galere c
 a. 3 Std./950 Hm\nTP: 6.00 Uhr\, Kletterstadl Aurach\, Anmeldung bis 8.7. 
 bei Erich Berger-Hofmann
CATEGORIES:Bergtour
END:VEVENT
BEGIN:VTIMEZONE
TZID:Europe/Berlin
X-LIC-LOCATION:Europe/Berlin
BEGIN:DAYLIGHT
DTSTART:20220327T030000
TZOFFSETFROM:+0100
TZOFFSETTO:+0200
TZNAME:CEST
END:DAYLIGHT
END:VTIMEZONE
END:VCALENDAR