BEGIN:VCALENDAR
VERSION:2.0
PRODID:-//wp-events-plugin.com//7.2.1//EN
TZID:Europe/Berlin
X-WR-TIMEZONE:Europe/Berlin
BEGIN:VEVENT
UID:170@dav-leitzachtal.de
DTSTART;TZID=Europe/Berlin;VALUE=DATE:20230111
DTEND;TZID=Europe/Berlin;VALUE=DATE:20230112
DTSTAMP:20230107T141148Z
URL:https://www.dav-leitzachtal.de/wp-touren/events/radtour-zum-pienzenaue
 r-moor/
SUMMARY:Radtour zum Pienzenauer Moor
DESCRIPTION:Radtour der Oberlandler Senioren zum Pienzenauer Moor am 11.1.2
 022\n\nDie Oberlandler Senioren veranstalten am Mittwoch 11. Januar eine R
 adtour zur Pienzenauer Filze mit Rundwanderung im Moor. Treffpunkt ist 10.
 15 am Bahnhof Miesbach. Führung Frieder Scholz\, Tel. 08028-783."
CATEGORIES:Oberlandler-Senioren
END:VEVENT
BEGIN:VTIMEZONE
TZID:Europe/Berlin
X-LIC-LOCATION:Europe/Berlin
BEGIN:STANDARD
DTSTART:20221030T020000
TZOFFSETFROM:+0200
TZOFFSETTO:+0100
TZNAME:CET
END:STANDARD
END:VTIMEZONE
END:VCALENDAR