BEGIN:VCALENDAR
VERSION:2.0
PRODID:-//wp-events-plugin.com//7.2.1//EN
TZID:Europe/Berlin
X-WR-TIMEZONE:Europe/Berlin
BEGIN:VEVENT
UID:179@dav-leitzachtal.de
DTSTART;TZID=Europe/Berlin;VALUE=DATE:20230405
DTEND;TZID=Europe/Berlin;VALUE=DATE:20230406
DTSTAMP:20230402T143219Z
URL:https://www.dav-leitzachtal.de/wp-touren/events/radtour-um-den-tegerns
 ee-der-oberlandler-senioren/
SUMMARY:Radtour um den Tegernsee der Oberlandler Senioren 
DESCRIPTION:Radtour der Oberlandler Senioren \nDie Oberlandler Senioren ma
 chen am Mittwoch 5.April eine Radtour um den Tegernsee. Treffpunkt ist um 
 10.15 am Bahnhof Hausham. Tourenleitung Frieder Scholz\, Tel.: 08028-783
CATEGORIES:Oberlandler-Senioren
END:VEVENT
BEGIN:VTIMEZONE
TZID:Europe/Berlin
X-LIC-LOCATION:Europe/Berlin
BEGIN:DAYLIGHT
DTSTART:20230326T030000
TZOFFSETFROM:+0100
TZOFFSETTO:+0200
TZNAME:CEST
END:DAYLIGHT
END:VTIMEZONE
END:VCALENDAR