BEGIN:VCALENDAR
VERSION:2.0
PRODID:-//wp-events-plugin.com//7.2.1//EN
TZID:Europe/Berlin
X-WR-TIMEZONE:Europe/Berlin
BEGIN:VEVENT
UID:166@dav-leitzachtal.de
DTSTART;TZID=Europe/Berlin:20230404T170000
DTEND;TZID=Europe/Berlin:20230404T200000
DTSTAMP:20230324T154114Z
URL:https://www.dav-leitzachtal.de/wp-touren/events/radl-schrauber-kurs-2/
SUMMARY:Radl Schrauber Kurs
DESCRIPTION:Inhalte: Bike-Check (Bremsen\, Achsen\, Steuersatz\, Hinterbau\
 , Kurbel)\, Bike-Setup (Cockpit\, Bremsen\, Fahrwerk)\, Reifen / Schlauch 
 wechseln\, Bremsbeläge wechseln\, Bremse entlüften\, Schaltung einstelle
 n\, Schaltzug wechseln\, Schaltauge ausrichten / wechseln\, Kette wechseln
 \, kürzen\, reparieren\, Laufrad zentrieren.\n\n\n\nTeilnehmer können (n
 ach vorheriger Absprache) auch ihre Räder mitbringen\, so dass man an den
  Rädern gemeinsam schraubt bzw. repariert.\n\n\n\nTP wir noch bekannt geg
 eben. Anmeldung bei Alexander Strebel.\n\n\n\nWir haben aktuell noch keine
 n Veranstaltungsort. Es ist also noch nicht sicher\, ob die Veranstaltung 
 stattfinden kann.
CATEGORIES:Ausbildung,Mountainbike
END:VEVENT
BEGIN:VTIMEZONE
TZID:Europe/Berlin
X-LIC-LOCATION:Europe/Berlin
BEGIN:DAYLIGHT
DTSTART:20230326T030000
TZOFFSETFROM:+0100
TZOFFSETTO:+0200
TZNAME:CEST
END:DAYLIGHT
END:VTIMEZONE
END:VCALENDAR