BEGIN:VCALENDAR
VERSION:2.0
PRODID:-//wp-events-plugin.com//7.2.1//EN
TZID:Europe/Berlin
X-WR-TIMEZONE:Europe/Berlin
BEGIN:VEVENT
UID:171@dav-leitzachtal.de
DTSTART;TZID=Europe/Berlin;VALUE=DATE:20230204
DTEND;TZID=Europe/Berlin;VALUE=DATE:20230205
DTSTAMP:20230130T202044Z
URL:https://www.dav-leitzachtal.de/wp-touren/events/pistenskifahren-am-sud
 elfeld/
SUMMARY:Pistenskifahren/Freeriden im Alpbachtal
DESCRIPTION:Im Skigebiet Alpbachtal warten abwechslungsreiche Pisten und vi
 ele Möglichkeiten zum Freeriden.\n\nTreffpunkt 7:00 Uhr am Kletterstadl\,
  Teilnahme nur mit H E L M. Für Freeriden zusätzlich LVS-Ausrüstung erf
 orderlich. Anmeldungen an jugend@dav-leitzachtal.de oder direkt bei den Ju
 gendleitern.\n\nAbhängig von Wetter\, Schnee- und Lawinenlage muss das Sk
 igebiet eventuell kurzfristig angepasst werden.
CATEGORIES:Jugendgruppe
END:VEVENT
BEGIN:VTIMEZONE
TZID:Europe/Berlin
X-LIC-LOCATION:Europe/Berlin
BEGIN:STANDARD
DTSTART:20221030T020000
TZOFFSETFROM:+0200
TZOFFSETTO:+0100
TZNAME:CET
END:STANDARD
END:VTIMEZONE
END:VCALENDAR