BEGIN:VCALENDAR
VERSION:2.0
PRODID:-//wp-events-plugin.com//7.2.1//EN
TZID:Europe/Berlin
X-WR-TIMEZONE:Europe/Berlin
BEGIN:VEVENT
UID:72@dav-leitzachtal.de
DTSTART;TZID=Europe/Berlin:20220122T073000
DTEND;TZID=Europe/Berlin:20220122T150000
DTSTAMP:20220104T155340Z
URL:https://www.dav-leitzachtal.de/wp-touren/events/pistenskifahren-am-sud
 elfeld-nur-mit-helm/
SUMMARY:Pistenskifahren am Sudelfeld - Nur mit HELM!
DESCRIPTION:Skifahren am Sudelfeld\, der Aufstieg erfolgt dieses Mal ausnah
 msweise per Lift statt mit Muskelkraft. Treffpunkt: 7:30 Uhr am Klettersta
 dl in Aurach. Infos zu Skipass-Preisen und aktuellen Coronaregeln auf der 
 Piste unter www.sudelfeld.de. NUR MIT HELM! Infos und Anmeldung direkt bei
  den Jugendleitern oder per Mail an jugend@dav-leitzachtal.de
CATEGORIES:Jugendgruppe
END:VEVENT
BEGIN:VTIMEZONE
TZID:Europe/Berlin
X-LIC-LOCATION:Europe/Berlin
BEGIN:STANDARD
DTSTART:20211031T020000
TZOFFSETFROM:+0200
TZOFFSETTO:+0100
TZNAME:CET
END:STANDARD
END:VTIMEZONE
END:VCALENDAR