BEGIN:VCALENDAR
VERSION:2.0
PRODID:-//wp-events-plugin.com//7.2.1//EN
TZID:Europe/Berlin
X-WR-TIMEZONE:Europe/Berlin
BEGIN:VEVENT
UID:232@dav-leitzachtal.de
DTSTART;TZID=Europe/Berlin;VALUE=DATE:20240720
DTEND;TZID=Europe/Berlin;VALUE=DATE:20240722
DTSTAMP:20240718T080448Z
URL:https://www.dav-leitzachtal.de/wp-touren/events/ortler-3905-m-suedtiro
 l/
SUMMARY:Ortler 3905 m\, Südtirol
DESCRIPTION:Programm für junge Erwachsene\n\nOrtler 3905 m\, Südtirol\nAn
 spruchsvolle Hochtour über d. Hintergrat Kletterstellen IV Grad (UIAA)\,\
 nÜbernachtung Hintergrathütte 2720 m\, Gipfelaufstieg von der Hütte\nca
 . 5 Std./1200 Hm.\, Helm\, Hochtourenausrüstg. erforderl.\nTP: Sa. 10.00 
 Uhr\, Kletterstadl Aurach\, Anmeldung bis 20.05. wg. Hüttenreservg.
CATEGORIES:Hochtour,Jugendgruppe
END:VEVENT
BEGIN:VTIMEZONE
TZID:Europe/Berlin
X-LIC-LOCATION:Europe/Berlin
BEGIN:DAYLIGHT
DTSTART:20240331T030000
TZOFFSETFROM:+0100
TZOFFSETTO:+0200
TZNAME:CEST
END:DAYLIGHT
END:VTIMEZONE
END:VCALENDAR