BEGIN:VCALENDAR
VERSION:2.0
PRODID:-//wp-events-plugin.com//7.2.1//EN
TZID:Europe/Berlin
X-WR-TIMEZONE:Europe/Berlin
BEGIN:VEVENT
UID:189@dav-leitzachtal.de
DTSTART;TZID=Europe/Berlin;VALUE=DATE:20230723
DTEND;TZID=Europe/Berlin;VALUE=DATE:20230725
DTSTAMP:20230605T102009Z
URL:https://www.dav-leitzachtal.de/wp-touren/events/neue-regensburger-huet
 te-stubaital/
SUMMARY:NEUE REGENSBURGER HÜTTE STUBAITAL
DESCRIPTION:Alternativ zum Riemanhaus\, da dort wegen umfangreichen Umbau e
 rhebliche Einschränkungen sind. Zur neuen Regensburger Hütte mit Übern
 achtung und von dort aus am ersten Tag zu den Falbesoner Seen. Nächster 
 Tag zum Gipfel des Basslerjoch.Anmeldung und Details bei Birgit Wörndl 
CATEGORIES:Bergtour
END:VEVENT
BEGIN:VTIMEZONE
TZID:Europe/Berlin
X-LIC-LOCATION:Europe/Berlin
BEGIN:DAYLIGHT
DTSTART:20230326T030000
TZOFFSETFROM:+0100
TZOFFSETTO:+0200
TZNAME:CEST
END:DAYLIGHT
END:VTIMEZONE
END:VCALENDAR