BEGIN:VCALENDAR
VERSION:2.0
PRODID:-//wp-events-plugin.com//7.2.1//EN
TZID:Europe/Berlin
X-WR-TIMEZONE:Europe/Berlin
BEGIN:VEVENT
UID:16@dav-leitzachtal.de
DTSTART;TZID=Europe/Berlin:20210120T000000
DTEND;TZID=Europe/Berlin:20210120T000000
DTSTAMP:20210108T014752Z
URL:https://www.dav-leitzachtal.de/wp-touren/events/nachtskitour-am-sudelf
 eld/
SUMMARY:ABGESAGT: Nachtskitour am Sudelfeld
DESCRIPTION:Start ab Talstation und/oder Grafenherberg. Treffpunkt um 18:30
  Uhr beim Kletterstadl\nTeilnahme Nur mit H E L M
CATEGORIES:Jugendgruppe
END:VEVENT
BEGIN:VTIMEZONE
TZID:Europe/Berlin
X-LIC-LOCATION:Europe/Berlin
BEGIN:STANDARD
DTSTART:20201025T020000
TZOFFSETFROM:+0200
TZOFFSETTO:+0100
TZNAME:CET
END:STANDARD
END:VTIMEZONE
END:VCALENDAR