BEGIN:VCALENDAR
VERSION:2.0
PRODID:-//wp-events-plugin.com//7.2.1//EN
TZID:Europe/Berlin
X-WR-TIMEZONE:Europe/Berlin
BEGIN:VEVENT
UID:138@dav-leitzachtal.de
DTSTART;TZID=Europe/Berlin:20221201T193000
DTEND;TZID=Europe/Berlin:20221201T220000
DTSTAMP:20221201T080146Z
URL:https://www.dav-leitzachtal.de/wp-touren/events/nachruf-auf-die-arktis
 -lesung-von-birgit-lutz/
SUMMARY:„Nachruf auf die Arktis“ Lesung von Birgit Lutz
DESCRIPTION:Externe Veranstaltung: \n\n„Nachruf auf die Arktis“ –  L
 esung und Bildvortrag im Heimatmuseum in Schliersee am Do. 1 Dez. 2022. Be
 ginn 19:30 Uhr. Karten bei der Bücheroase Schliersee https://www.buechero
 ase-schliersee.de/\n\n\n\nBirgit Lutz\, Journalistin und Arktis-Expertin\,
  bereiten seit einigen Jahren die sichtbaren Veränderungen\, die die Erde
 rwärmung besonders in der Arktis verursacht\, zunehmend Sorge. Sie nimmt 
 uns deswegen mit auf eine besondere Reise: Wir umrunden mit ihr die Inselg
 ruppe Spitzbergen\, wandern über Gletscher und besuchen Orte abseits der 
 Touristenrouten. Birgit Lutz zeigt uns den Wandel\, der teilweise bereits 
 innerhalb weniger Monate gravierend voranschreitet. Sie spricht mit Mensch
 en\, die direkt davon betroffen sind\, und trifft namhafte Wissenschaftler
  wie Klimaforscher Stefan Rahmstorf oder Ökonomin Claudia Kemfert\, die i
 hre Beobachtungen kenntnisreich einordnen. Auch ethischen und psychologisc
 hen Aspekten des Klimawandels gibt Birgit Lutz viel Raum. Denn zuletzt ste
 hen bei ihr nicht Betroffenheit und Ohnmacht im Fokus\, sondern der Aufruf
 \, jetzt mutig neu zu denken und zu handeln. Wir alle können das Ruder no
 ch herumreißen\, um diese einzigartige Region und die Bewohnbarkeit unser
 es Planeten in seiner Vielfalt zu erhalten und zu schützen.
CATEGORIES:Vortrag
END:VEVENT
BEGIN:VTIMEZONE
TZID:Europe/Berlin
X-LIC-LOCATION:Europe/Berlin
BEGIN:STANDARD
DTSTART:20221030T020000
TZOFFSETFROM:+0200
TZOFFSETTO:+0100
TZNAME:CET
END:STANDARD
END:VTIMEZONE
END:VCALENDAR