BEGIN:VCALENDAR
VERSION:2.0
PRODID:-//wp-events-plugin.com//7.2.1//EN
TZID:Europe/Berlin
X-WR-TIMEZONE:Europe/Berlin
BEGIN:VEVENT
UID:162@dav-leitzachtal.de
DTSTART;TZID=Europe/Berlin:20230513T130000
DTEND;TZID=Europe/Berlin:20230513T180000
DTSTAMP:20221226T154304Z
URL:https://www.dav-leitzachtal.de/wp-touren/events/mtb-einsteigertour-am-
 schliersee-3/
SUMMARY:MTB Einsteigertour am Schliersee mit kleinem Fahrtechniktraining
DESCRIPTION:Innerhalb dieser Einsteigertour machen wir zunächst einen Bike
 -Check und ein kleines Fahrtechniktraining (Grundposition\, Bremsbalance\,
  Kurven\, Hindernisse). Danach geht’s auf Tour (ca. 600 hm) mit einfache
 n Trails (S0/S1 http://www.singletrail-skala.de)\, wo wir das zuvor Gelern
 te in der Praxis üben. Eine Einkehr ist erst am Ende der Tour geplant. He
 lm\, Handschuhe und Brille sind Pflicht\, Protektoren werden empfohlen. Ac
 htung: Tour findet nur bei trockenen Trails statt!
CATEGORIES:Ausbildung,Mountainbike
END:VEVENT
BEGIN:VTIMEZONE
TZID:Europe/Berlin
X-LIC-LOCATION:Europe/Berlin
BEGIN:DAYLIGHT
DTSTART:20230326T030000
TZOFFSETFROM:+0100
TZOFFSETTO:+0200
TZNAME:CEST
END:DAYLIGHT
END:VTIMEZONE
END:VCALENDAR