BEGIN:VCALENDAR
VERSION:2.0
PRODID:-//wp-events-plugin.com//7.2.1//EN
TZID:Europe/Berlin
X-WR-TIMEZONE:Europe/Berlin
BEGIN:VEVENT
UID:168@dav-leitzachtal.de
DTSTART;TZID=Europe/Berlin;VALUE=DATE:20230630
DTEND;TZID=Europe/Berlin;VALUE=DATE:20230703
DTSTAMP:20221226T185455Z
URL:https://www.dav-leitzachtal.de/wp-touren/events/mountainbiken-in-saalb
 ach-oesterreichs-groesster-bike-region/
SUMMARY:Mountainbiken in Saalbach - Österreichs größter Bike-Region
DESCRIPTION:Über 80 km lässige Lines &amp\; Trails und bis zu 9 topmodern
 e Bergbahnen auf 7 Bergen sorgen im Home of Lässig für grenzenlose Bike-
 Erlebnisse.\n\n\n\nWir übernachten in einer Pension oder einem Hotel. 2 x
  Übernachtung mit Frühstück im Doppelzimmer kostet vsl. 100 Euro pro Pe
 rson (inkl. JokerCard =&gt\; damit ist das Liftticket 30% günstiger https
 ://www.saalbach.com/de/sommer/joker-card). Wir werden vorwiegend die Bahn
 en nutzen und nur wenig treten / schieben (z.B. rüber nach Leogang). Anr
 eise Freitag nachmittag (das Liftticket für Samstag ist schon ab Freitag 
 15:00h gültig) Abreise Sonntag nach Tourenende.\n\n\n\nToureninfo: Tempo
 : mittel. Trails S1/S2 tlw. auch S3 (www.singletrail-skala.de). Nicht f
 ür Anfänger oder E-Bikes geeignet. Enduro Fully mit mind. 150 mm und Hel
 m / Protektoren erforderlich. TN-Geb. 16.- Euro. TP und Fahrgemeinschaften
  werden nach Anmeldung (bei Alexander Strebel) vereinbart.
CATEGORIES:Mountainbike
END:VEVENT
BEGIN:VTIMEZONE
TZID:Europe/Berlin
X-LIC-LOCATION:Europe/Berlin
BEGIN:DAYLIGHT
DTSTART:20230326T030000
TZOFFSETFROM:+0100
TZOFFSETTO:+0200
TZNAME:CEST
END:DAYLIGHT
END:VTIMEZONE
END:VCALENDAR