BEGIN:VCALENDAR
VERSION:2.0
PRODID:-//wp-events-plugin.com//7.2.1//EN
TZID:Europe/Berlin
X-WR-TIMEZONE:Europe/Berlin
BEGIN:VEVENT
UID:155@dav-leitzachtal.de
DTSTART;TZID=Europe/Berlin:20230526T000000
DTEND;TZID=Europe/Berlin:20230529T000000
DTSTAMP:20221226T131135Z
URL:https://www.dav-leitzachtal.de/wp-touren/events/molveno-bear-trails/
SUMMARY:Molveno Bear Trails
DESCRIPTION:Biken in spektakulärer Dolomiten Kulisse\n\n\n\nDie Dolomiti P
 aganella ist ein atemberaubendes Plateau in den Brenta-Dolomiten in dessen
  Mitte sich der schönste See Italiens befindet\, der Molvenosee. Das Bike
 -Gebiet umfasst ein großartiges Netz von 400 Kilometern Mountainbike-Stre
 cken.\n\n\n\nAnspruchsvolle technische Naturtrails und flowige Lines in Bi
 kepark am Molvenosee (S2/S3 www.singletrail-skala.de). Nutzung der Lifte z
 um Aufstieg plus kurze Kurbel- &amp\; Schiebe-Passagen. Übern. im Hotel. 
 Enduro Fully mit mind. 150 mm und Helm / Protektoren erforderlich. TN-Geb.
  24.- Euro. TP und Fahrgemeinschaften werden nach Anmeldung (bei Alexander
  Strebel) vereinbart.
CATEGORIES:Mountainbike
END:VEVENT
BEGIN:VTIMEZONE
TZID:Europe/Berlin
X-LIC-LOCATION:Europe/Berlin
BEGIN:DAYLIGHT
DTSTART:20230326T030000
TZOFFSETFROM:+0100
TZOFFSETTO:+0200
TZNAME:CEST
END:DAYLIGHT
END:VTIMEZONE
END:VCALENDAR