BEGIN:VCALENDAR
VERSION:2.0
PRODID:-//wp-events-plugin.com//7.2.1//EN
TZID:Europe/Berlin
X-WR-TIMEZONE:Europe/Berlin
BEGIN:VEVENT
UID:175@dav-leitzachtal.de
DTSTART;TZID=Europe/Berlin:20230315T200000
DTEND;TZID=Europe/Berlin:20230315T220000
DTSTAMP:20230306T050347Z
URL:https://www.dav-leitzachtal.de/wp-touren/events/mit-mountainbike-und-s
 teigeisen-durch-die-uina-schlucht-zum-piz-sesvenna/
SUMMARY:Mit Mountainbike und Steigeisen - Durch die Uina-Schlucht zum Piz S
 esvenna.
DESCRIPTION:“Die DAV Sektion Leitzachtal lädt am Mittwoch 15. März 2023
  um 20.00 zu einem Dia_Vortrag von Toni Putz ein: Mit Mountainbike und St
 eigeisen - Durch die Uina-Schlucht zum Piz Sesvenna. Der Vortrag findet im
  Gasthof Kirchstiegl statt. Eintritt ist frei\, Spenden sind willkommen”
CATEGORIES:Vortrag
END:VEVENT
BEGIN:VTIMEZONE
TZID:Europe/Berlin
X-LIC-LOCATION:Europe/Berlin
BEGIN:STANDARD
DTSTART:20221030T020000
TZOFFSETFROM:+0200
TZOFFSETTO:+0100
TZNAME:CET
END:STANDARD
END:VTIMEZONE
END:VCALENDAR