BEGIN:VCALENDAR
VERSION:2.0
PRODID:-//wp-events-plugin.com//7.2.1//EN
TZID:Europe/Berlin
X-WR-TIMEZONE:Europe/Berlin
BEGIN:VEVENT
UID:75@dav-leitzachtal.de
DTSTART;TZID=Europe/Berlin:20220219T090000
DTEND;TZID=Europe/Berlin:20220219T140000
DTSTAMP:20220204T074716Z
URL:https://www.dav-leitzachtal.de/wp-touren/events/lvs-training-von-smart
 ino-ortovox/
SUMMARY:LVS Training von Smartino & Ortovox
DESCRIPTION:Smartino-Ortovox LVS-Training ... bei jedem (!) Wetter\nIn Zusa
 mmenarbeit mit Ortovox veranstalten wir\n\n 	am Samstag\, den 19. Februar 
 2022\n 	von 09 Uhr bis ca. 14 Uhr\n 	in und an der Oberen Firstalm / Spitz
 ingsee\n 	für Skitourengeher\, Schneeschuhgeher\, Skibergsteiger\n\nunser
  diesjähriges LVS-Training.\n\nMit dem Unkostenbeitrag wird der Bergwacht
  moderne LVS-Technik gespendet\, also alles für den guten Zweck!\nhttps:/
 /www.funktionelles.de/Smartino-Ortovox-Lawinenverschuetteten-Such-Training
 -19-Februar-2022.htm?shop=life&amp\;SessionId&amp\;a=article&amp\;ProdNr=L
 VS22_2&amp\;fbclid=IwAR3IT96G3nUxvPn-aFVEZcab1r8XtfhW1hKNrDGLa_aYyGJ_TnEDk
 WUww0M\n&nbsp\;\nAblauf:\n\n 	09:00 Uhr Treffpunkt Obere Firstalm. Anfahrt
 /Auffahrt ist selbst zu organisieren\n 	09:00 bis 11:00 Uhr Theoretische L
 VS-Kunde im Gruppenraum der Oberen Firstalm\n 	11:00 bis 14:00 Uhr Praktis
 che Ausbildung an vorbereiteten Stationen rund um die Obere Firstalm\n 	14
 :00 Uhr Abschlussbesprechung und Verabschiedung\n\nNotwendige Ausrüstung:
 \n\n 	passende Wintertouren- oder Skibekleidung\n 	Touren- oder Alpinski\,
  Schneeschuhe\, alternativ feste Bergschuhe\n 	Felle\n 	Rucksack\n 	Notfal
 lausrüstung (persönlich favorisiertes LVS-Gerät\, Schaufel\, Sonde\, Bi
 waksack) - Ortovox stellt in begrenzter Menge Geräte zum Testen zur Verf
 ügung\n 	Sonnencreme\n 	Sonnenbrille/Schneebrille\n 	Trinkflasche/Thermos
 kanne\n
CATEGORIES:Ausbildung
END:VEVENT
BEGIN:VTIMEZONE
TZID:Europe/Berlin
X-LIC-LOCATION:Europe/Berlin
BEGIN:STANDARD
DTSTART:20211031T020000
TZOFFSETFROM:+0200
TZOFFSETTO:+0100
TZNAME:CET
END:STANDARD
END:VTIMEZONE
END:VCALENDAR