BEGIN:VCALENDAR
VERSION:2.0
PRODID:-//wp-events-plugin.com//7.2.1//EN
TZID:Europe/Berlin
X-WR-TIMEZONE:Europe/Berlin
BEGIN:VEVENT
UID:82@dav-leitzachtal.de
DTSTART;TZID=Europe/Berlin;VALUE=DATE:20220505
DTEND;TZID=Europe/Berlin;VALUE=DATE:20220506
DTSTAMP:20220419T175532Z
URL:https://www.dav-leitzachtal.de/wp-touren/events/leutascher-klamm-wette
 rstein/
SUMMARY:Leutascher Klamm\, Wetterstein
DESCRIPTION:Leichte Rundwanderung mit Wasserfallweg\, ca. 2\,5 Std./250 Hm\
 nTP: 8.00 Uhr Kletterstadl Aurach\, Anmeldung bei Lotte Pichler
CATEGORIES:Wandern
END:VEVENT
BEGIN:VTIMEZONE
TZID:Europe/Berlin
X-LIC-LOCATION:Europe/Berlin
BEGIN:DAYLIGHT
DTSTART:20220327T030000
TZOFFSETFROM:+0100
TZOFFSETTO:+0200
TZNAME:CEST
END:DAYLIGHT
END:VTIMEZONE
END:VCALENDAR