BEGIN:VCALENDAR
VERSION:2.0
PRODID:-//wp-events-plugin.com//7.2.1//EN
TZID:Europe/Berlin
X-WR-TIMEZONE:Europe/Berlin
BEGIN:VEVENT
UID:106@dav-leitzachtal.de
DTSTART;TZID=Europe/Berlin;VALUE=DATE:20220709
DTEND;TZID=Europe/Berlin;VALUE=DATE:20220710
DTSTAMP:20220704T200558Z
URL:https://www.dav-leitzachtal.de/wp-touren/events/leichter-klettersteig-
 im-rofan/
SUMMARY:VERSCHOBEN - Leichter Klettersteig im Rofan
DESCRIPTION:Ausflug verschoben\, neuer Termin wird noch bekannt gegeben.\n\
 n(TP: 7.00 Uhr\, Kletterstadl Aurach\, Helm erforderlich\, Anmeldung:  ju
 gend@dav-leitzachtal.de)
CATEGORIES:Jugendgruppe,Klettern
END:VEVENT
BEGIN:VTIMEZONE
TZID:Europe/Berlin
X-LIC-LOCATION:Europe/Berlin
BEGIN:DAYLIGHT
DTSTART:20220327T030000
TZOFFSETFROM:+0100
TZOFFSETTO:+0200
TZNAME:CEST
END:DAYLIGHT
END:VTIMEZONE
END:VCALENDAR