BEGIN:VCALENDAR
VERSION:2.0
PRODID:-//wp-events-plugin.com//7.2.1//EN
TZID:Europe/Berlin
X-WR-TIMEZONE:Europe/Berlin
BEGIN:VEVENT
UID:153@dav-leitzachtal.de
DTSTART;TZID=Europe/Berlin;VALUE=DATE:20230428
DTEND;TZID=Europe/Berlin;VALUE=DATE:20230502
DTSTAMP:20221226T131309Z
URL:https://www.dav-leitzachtal.de/wp-touren/events/leichte-klettersteige-
 am-gardasee/
SUMMARY:Leichte Klettersteige am Gardasee
DESCRIPTION:Auf relativ leichten Klettersteigen (A/B mit einzelnen C-Stelle
 n https://www.via-ferrata.de/schwierigkeitsskala-klettersteige/) erkunden 
 wir vier Tage lang die schönen und reizvollen Landschaften rund um den Ga
 rdasee mit traumhaften Weit- und Tiefblicken\, vorbei an Wasserfällen und
  durch Schluchten hindurch. Mögliche Ziele sind: Sentiero del Colodri\, S
 entiero attrezzato Fausto Susatti\, Sentiero attrezzato Burrone Giovanelli
 . Untergebracht sind wir in Doppelzimmern in einem Hotel in Torbole oder i
 n Riva\, so dass wir den Tag bei einem Sundowner am See ausklingen lassen 
 können.\n\n\n\nTagespensum: 4- bis 5-stündige Aufstiege mit 800 bis 1200
  Hm sowie damit verbundene lange Abstiege. Bis 7 Std. Gesamtgehzeit in Auf
 - und Abstieg. Klettersteigausrüstung\, Trittsicherheit und Schwindelfrei
 heit erforderlich. TN-Geb. 24.- Euro. TP und Fahrgemeinschaften werden nac
 h Anmeldung (bei Alexander Strebel) vereinbart.
CATEGORIES:Klettern,Wandern
END:VEVENT
BEGIN:VTIMEZONE
TZID:Europe/Berlin
X-LIC-LOCATION:Europe/Berlin
BEGIN:DAYLIGHT
DTSTART:20230326T030000
TZOFFSETFROM:+0100
TZOFFSETTO:+0200
TZNAME:CEST
END:DAYLIGHT
END:VTIMEZONE
END:VCALENDAR