BEGIN:VCALENDAR
VERSION:2.0
PRODID:-//wp-events-plugin.com//7.2.1//EN
TZID:Europe/Berlin
X-WR-TIMEZONE:Europe/Berlin
BEGIN:VEVENT
UID:17@dav-leitzachtal.de
DTSTART;TZID=Europe/Berlin:20210130T000000
DTEND;TZID=Europe/Berlin:20210130T000000
DTSTAMP:20210108T014829Z
URL:https://www.dav-leitzachtal.de/wp-touren/events/lawinentraining-versch
 uettetensuche-und-rettung/
SUMMARY:ABGESAGT: Ausbildung: LVS-Training
DESCRIPTION:Lawinentraining: Verschüttetensuche und Rettung\n&nbsp\;\n\nOr
 t je nach Schnee &amp\; Lawinenlage.\n\nTreffpunkt um 7:30 Uhr beim Klette
 rstadl\nTeilnahme nur mit H E L M &amp\; LVS-Gerät + Schaufel + Sonde\n\n
 &nbsp\;\n\nAnmeldungen an jugend@dav-leitzachtal.de oder direkt bei den Ju
 gendleitern
CATEGORIES:Jugendgruppe
END:VEVENT
BEGIN:VTIMEZONE
TZID:Europe/Berlin
X-LIC-LOCATION:Europe/Berlin
BEGIN:STANDARD
DTSTART:20201025T020000
TZOFFSETFROM:+0200
TZOFFSETTO:+0100
TZNAME:CET
END:STANDARD
END:VTIMEZONE
END:VCALENDAR