BEGIN:VCALENDAR
VERSION:2.0
PRODID:-//wp-events-plugin.com//7.2.1//EN
TZID:Europe/Berlin
X-WR-TIMEZONE:Europe/Berlin
BEGIN:VEVENT
UID:73@dav-leitzachtal.de
DTSTART;TZID=Europe/Berlin:20220205T073000
DTEND;TZID=Europe/Berlin:20220205T170000
DTSTAMP:20220104T160450Z
URL:https://www.dav-leitzachtal.de/wp-touren/events/lawinentraining-versch
 uettetensuche-und-rettung-2/
SUMMARY:Lawinentraining: Verschüttetensuche und Rettung
DESCRIPTION:Wie ging das gleich nochmal mit der Verschüttetensuche...?!? B
 ei diesem Training frischen wir das Wissen auf und bringen wir Dich auf de
 n neuesten Stand im Umgang mit LVS\, Schaufel und Sonde! Treffpunkt: 7:30 
 Uhr am Kletterstadl in Aurach. Der Ort des Trainings wird dann je nach akt
 ueller Schnee- und Lawinenlage bzw. Kondition der Teilnehmer gewählt. Bit
 te LVS\, Schaufel und Sonde selber mitbringen. Infos und Anmeldung direkt 
 bei den Jugendleitern oder per Mail an jugend@dav-leitzachtal.de
CATEGORIES:Ausbildung,Jugendgruppe
END:VEVENT
BEGIN:VTIMEZONE
TZID:Europe/Berlin
X-LIC-LOCATION:Europe/Berlin
BEGIN:STANDARD
DTSTART:20211031T020000
TZOFFSETFROM:+0200
TZOFFSETTO:+0100
TZNAME:CET
END:STANDARD
END:VTIMEZONE
END:VCALENDAR