BEGIN:VCALENDAR
VERSION:2.0
PRODID:-//wp-events-plugin.com//7.2.1//EN
TZID:Europe/Berlin
X-WR-TIMEZONE:Europe/Berlin
BEGIN:VEVENT
UID:123@dav-leitzachtal.de
DTSTART;TZID=Europe/Berlin;VALUE=DATE:20221016
DTEND;TZID=Europe/Berlin;VALUE=DATE:20221017
DTSTAMP:20220918T171348Z
URL:https://www.dav-leitzachtal.de/wp-touren/events/kranzhorn-1368-m-chiem
 gauer-alpen/
SUMMARY:Kranzhorn 1368 m\, Chiemgauer Alpen
DESCRIPTION:Leichte Bergwanderung auf den Grenzberg über dem Inntal\, Aufs
 tieg 1\,5 Std./450 Hm\nTreffpunkt: 7.30 Uhr\, Kletterstadl Aurach\, Anmeld
 ung bis 14.10. bei Erich Berger-Hofmann\, Tel. 0163 5502970
CATEGORIES:Wandern
END:VEVENT
BEGIN:VTIMEZONE
TZID:Europe/Berlin
X-LIC-LOCATION:Europe/Berlin
BEGIN:DAYLIGHT
DTSTART:20220327T030000
TZOFFSETFROM:+0100
TZOFFSETTO:+0200
TZNAME:CEST
END:DAYLIGHT
END:VTIMEZONE
END:VCALENDAR