BEGIN:VCALENDAR
VERSION:2.0
PRODID:-//wp-events-plugin.com//7.2.1//EN
TZID:Europe/Berlin
X-WR-TIMEZONE:Europe/Berlin
BEGIN:VEVENT
UID:98@dav-leitzachtal.de
DTSTART;TZID=Europe/Berlin:20220807T000000
DTEND;TZID=Europe/Berlin:20220813T000000
DTSTAMP:20220420T000929Z
URL:https://www.dav-leitzachtal.de/wp-touren/events/kletterwoche-ziel-wird
 -kurzfristig-festgelegt/
SUMMARY:Kletterwoche\, Ziel wird kurzfristig festgelegt
DESCRIPTION:Klettertouren im IV. bis VI. Grad\, entsprechende Fähigkeiten 
 sowie Kletterausrüstung\nerforderl.\, Übern. ggf. auf Zeltplatz\, Ausrü
 st. E\, TN-Geb. 48.- EUR\nTP: Nach Vereinbarung\, Anmeldung bis 29.7. bei 
 Frieder Scholz
CATEGORIES:Klettern
END:VEVENT
BEGIN:VTIMEZONE
TZID:Europe/Berlin
X-LIC-LOCATION:Europe/Berlin
BEGIN:DAYLIGHT
DTSTART:20220327T030000
TZOFFSETFROM:+0100
TZOFFSETTO:+0200
TZNAME:CEST
END:DAYLIGHT
END:VTIMEZONE
END:VCALENDAR