BEGIN:VCALENDAR
VERSION:2.0
PRODID:-//wp-events-plugin.com//7.2.1//EN
TZID:Europe/Berlin
X-WR-TIMEZONE:Europe/Berlin
BEGIN:VEVENT
UID:31@dav-leitzachtal.de
DTSTART;TZID=Europe/Berlin:20210616T193000
DTEND;TZID=Europe/Berlin:20210616T220000
DTSTAMP:20210613T085418Z
URL:https://www.dav-leitzachtal.de/wp-touren/events/klettertreff-im-klette
 rstad/
SUMMARY:Klettertreff im Kletterstad
DESCRIPTION:wir sind offen für Neuzugänge. Interessenten/innen bitte vorh
 er kurz per Email melden: kletterstadl@dav-leitzachtal.de\n\noder Tel. bei
  Rainer\, Tel. 0179 9476566 oder bei Helmut\,  Tel. 0175 2251412\n\n&nbsp
 \;\n\nWir treffen uns immer Mittwochs zum gemeinsamen Bouldern und Kletter
 n\, im Sommer gehen wir auch mal an den Fels.
CATEGORIES:Klettern
LOCATION:https://www.dav-leitzachtal.de/kletterstadl.html
END:VEVENT
BEGIN:VTIMEZONE
TZID:Europe/Berlin
X-LIC-LOCATION:Europe/Berlin
BEGIN:DAYLIGHT
DTSTART:20210328T030000
TZOFFSETFROM:+0100
TZOFFSETTO:+0200
TZNAME:CEST
END:DAYLIGHT
END:VTIMEZONE
END:VCALENDAR