BEGIN:VCALENDAR
VERSION:2.0
PRODID:-//wp-events-plugin.com//7.2.1//EN
TZID:Europe/Berlin
X-WR-TIMEZONE:Europe/Berlin
BEGIN:VEVENT
UID:323@dav-leitzachtal.de
DTSTART;TZID=Europe/Berlin:20260211T193000
DTEND;TZID=Europe/Berlin:20260211T220000
DTSTAMP:20260205T072722Z
URL:https://www.dav-leitzachtal.de/wp-touren/events/klettern-in-den-dolomi
 ten/
SUMMARY:Vortrag: Klettern in den Dolomiten
DESCRIPTION:Unsere Mitglieder Rainer Preuschl und Florian Blümel  bericht
 en über Klettertouren  in der Dolomiten. Darunter alle Drei Zinnen über
  den Normalweg\, 1. und 2. Sellaturm\, die Fünffingerspitzen (Daumenkante
 ) im Langkofelmassiv und zur Abwechslung eine Wanderung durch die Langkofe
 lscharte auf die Seiseralm. Gasthof Kirchstiegl\, 20 Uhr\, Eintritt frei\,
  Spenden Willkommen.
CATEGORIES:Vortrag
END:VEVENT
BEGIN:VTIMEZONE
TZID:Europe/Berlin
X-LIC-LOCATION:Europe/Berlin
BEGIN:STANDARD
DTSTART:20251026T020000
TZOFFSETFROM:+0200
TZOFFSETTO:+0100
TZNAME:CET
END:STANDARD
END:VTIMEZONE
END:VCALENDAR