BEGIN:VCALENDAR
VERSION:2.0
PRODID:-//wp-events-plugin.com//7.2.1//EN
TZID:Europe/Berlin
X-WR-TIMEZONE:Europe/Berlin
BEGIN:VEVENT
UID:197@dav-leitzachtal.de
DTSTART;TZID=Europe/Berlin:20231201T170000
DTEND;TZID=Europe/Berlin:20231201T183000
DTSTAMP:20231112T150518Z
URL:https://www.dav-leitzachtal.de/wp-touren/events/kletterkurs/
SUMMARY:Kletterkurs im Kletterstadl
DESCRIPTION:Ein Kurs mit drei Einheiten\, am 1.+8.+15. Dezember.\n\nMit Kin
 dern ab 8 und auch ohne Kinder. Vermittelt werden Grundlagen für selbstst
 ändiges\nund sicheres Klettern\, Material und Knotenkunde\, Sicherungstec
 hnik\, Klettern/\nSichern mit Toprope und im Vorstieg. Am letzten Kurstag 
 kann der DAV Kletterschein\n„Toprope“ abgelegt werden. Leihausrüstung
  wie Klettergurte\, Seile\, Sicherungsgeräte\nsind vorhanden.\nTN-Geb. f.
  Mitglieder Familie/2er Seilschaft 25.-\,Nichtmitglieder jeweils 35.- EUR\
 nTermine jeweils von 17.00 bis 18.30 Uhr im Kletterstadl Aurach\nAnmeldung
  bis 24. Nov. unter: helmut@dav-leitzachtal.de\n\n&nbsp\;\n\n&nbsp\;
CATEGORIES:Ausbildung,Klettern
END:VEVENT
BEGIN:VTIMEZONE
TZID:Europe/Berlin
X-LIC-LOCATION:Europe/Berlin
BEGIN:STANDARD
DTSTART:20231029T020000
TZOFFSETFROM:+0200
TZOFFSETTO:+0100
TZNAME:CET
END:STANDARD
END:VTIMEZONE
END:VCALENDAR