BEGIN:VCALENDAR
VERSION:2.0
PRODID:-//wp-events-plugin.com//7.2.1//EN
TZID:Europe/Berlin
X-WR-TIMEZONE:Europe/Berlin
BEGIN:VEVENT
UID:256@dav-leitzachtal.de
DTSTART;TZID=Europe/Berlin;VALUE=DATE:20241120
DTEND;TZID=Europe/Berlin;VALUE=DATE:20241121
DTSTAMP:20241118T141554Z
URL:https://www.dav-leitzachtal.de/wp-touren/events/klettergruppen-ausflug
 -zum-kletterz-nach-weyarn/
SUMMARY:Klettergruppen Ausflug zum KletterZ nach Weyarn
DESCRIPTION:Ausflug zum “KletterZ" nach Weyarn am schulfreien Buß- und B
 ettag\n\nTeilnehmen dürfen allen Kinder und Jugendlichen von unseren Klet
 tergruppen. Geschwisterkinder auf Anfrage.\n\nAnreise mit BRB Zug\, Zustie
 g-Zeiten:\n\nBayrischzell 8:30 &gt\; Osterhofen 8:35 &gt\; Fischbachau 8:4
 5 &gt\; Neuhaus 8:49 &gt\; Schliersee 9:00 Uhr &gt\; Hausham 9:03  (Darch
 ing 9:18)\n\nwir treffen uns im Fahrradabteil\n\n(falls ein Doppelzug fäh
 rt im hinteren Zugtei. Der ist ab Schliersee vorne)\n\nVon Darching gehen 
 wir gemeinsam ca. 10 Minuten zu Fuß zur Kletterhalle.\n\n&nbsp\;\n\nRück
 fahrt:  13:30 Uhr ab Darching\, ist ca. 14 Uhr in Schliersee… 14:15 Fis
 chbachau …\n\nMitbringen:  10€ für den Eintritt (sammeln wir im Zug 
 ein)\n\nGetränk\, Brotzeit\, eventuell kleines Taschengeld\n\nAusrüstung
 :\n\n 	Klettergurt\n 	Kletterschuhe\n 	nur falls vorhanden: Sicherungsger
 ät\n\nWem\, was von der Ausrüstung fehlt\, im KletterZ kann man Kletterg
 urt &amp\;Kletterschuhe leihen\,  kostet  für Schuhe 2€ / Gurt 2€. 
 Wir bringen ausreichend Kletterseile vom Kletterstadl mit.\nEinverständni
 serklärung:\nIch/wir sind als Erziehungsberechtigte einverstanden\, dass 
 die zu dem Ausflug angemeldeten Kind/er die Kletteranlage\n\nKletterZ‘\,
  Am Weiglfeld 30\, 836297 Weyarn\n\nbenutzt und falls nötig Klettermateri
 al des Ausrüstungsverleihs entleihen darf. Mir ist bekannt\, dass das\nKl
 ettern mit erheblichen Sturzrisiken und Verletzungsgefahren verbunden ist 
 und deshalb ein hohes Maß an Umsicht und\nEigenverantwortlichkeit erforde
 rt. Ich erkenne ausdrücklich an\, dass der Aufenthalt in und die Benutzun
 g der\nKletteranlagen\, insbesondere das Klettern\, ausschließlich auf ei
 gene Gefahr\, eigenes Risiko und eigene Verantwortung\nerfolgt. Die Benutz
 erordnung der Kletteranlage habe ich gelesen und zur Kenntnis genommen. Di
 ese ist auch über\nwww.kletterz.de abrufbar\, Datenschutzerklärung unter
  https://www.kletterz.de/datenschutz gelesen und verstanden habe.
CATEGORIES:Jugendgruppe,Klettern
END:VEVENT
BEGIN:VTIMEZONE
TZID:Europe/Berlin
X-LIC-LOCATION:Europe/Berlin
BEGIN:STANDARD
DTSTART:20241027T020000
TZOFFSETFROM:+0200
TZOFFSETTO:+0100
TZNAME:CET
END:STANDARD
END:VTIMEZONE
END:VCALENDAR