BEGIN:VCALENDAR
VERSION:2.0
PRODID:-//wp-events-plugin.com//7.2.1//EN
TZID:Europe/Berlin
X-WR-TIMEZONE:Europe/Berlin
BEGIN:VEVENT
UID:129@dav-leitzachtal.de
DTSTART;TZID=Europe/Berlin;VALUE=DATE:20221016
DTEND;TZID=Europe/Berlin;VALUE=DATE:20221018
DTSTAMP:20220922T113047Z
URL:https://www.dav-leitzachtal.de/wp-touren/events/kirtawanderung/
SUMMARY:Kirtawanderung
DESCRIPTION:Genusstour am Kirta\n\nVom Parkplatz Taubenstein über Rosskopf
 \, Stolzenberg zum Blecksteinhaus. Dort Übernachtung (Hoagascht am Kirtas
 onntag).\n\nAm nächsten Tag über Pfanngraben\, Rotwand zurück zum Taube
 nsteinhaus. Mit der Bahn ins Tal zurück.\n\n&nbsp\;
CATEGORIES:Bergtour
LOCATION:http://Spitzinggebiet%20
END:VEVENT
BEGIN:VTIMEZONE
TZID:Europe/Berlin
X-LIC-LOCATION:Europe/Berlin
BEGIN:DAYLIGHT
DTSTART:20220327T030000
TZOFFSETFROM:+0100
TZOFFSETTO:+0200
TZNAME:CEST
END:DAYLIGHT
END:VTIMEZONE
END:VCALENDAR