BEGIN:VCALENDAR
VERSION:2.0
PRODID:-//wp-events-plugin.com//7.2.1//EN
TZID:Europe/Berlin
X-WR-TIMEZONE:Europe/Berlin
BEGIN:VEVENT
UID:140@dav-leitzachtal.de
DTSTART;TZID=Europe/Berlin:20230111T200000
DTEND;TZID=Europe/Berlin:20230111T220000
DTSTAMP:20221127T071605Z
URL:https://www.dav-leitzachtal.de/wp-touren/events/kilimandscharo-bilder-
 vortrag-von-julia-riedl/
SUMMARY:Kilimandscharo - Bilder-Vortrag von Julia Riedl
DESCRIPTION:Gasthof Kirchstiegl\, Einlaß ab 19:30\, Beginn 20 Uhr
CATEGORIES:Vortrag
END:VEVENT
BEGIN:VTIMEZONE
TZID:Europe/Berlin
X-LIC-LOCATION:Europe/Berlin
BEGIN:STANDARD
DTSTART:20221030T020000
TZOFFSETFROM:+0200
TZOFFSETTO:+0100
TZNAME:CET
END:STANDARD
END:VTIMEZONE
END:VCALENDAR