BEGIN:VCALENDAR
VERSION:2.0
PRODID:-//wp-events-plugin.com//7.2.1//EN
TZID:Europe/Berlin
X-WR-TIMEZONE:Europe/Berlin
BEGIN:VEVENT
UID:308@dav-leitzachtal.de
DTSTART;TZID=Europe/Berlin:20250928T000000
DTEND;TZID=Europe/Berlin:20250928T000000
DTSTAMP:20250824T080849Z
URL:https://www.dav-leitzachtal.de/wp-touren/events/kampenwand-umrundung-1
 668-m-chiemgauer-alpen/
SUMMARY:Kampenwand Umrundung 1668 m\, Chiemgauer Alpen
DESCRIPTION:Kampenwand – Umrundung 1668 m\, Chiemgauer Alpen\nAussichtsre
 iche Bergtour\, Trittsicherheit erford.\, Aufst. v. Aschau 4 Std./1000 Hm.
 \nTP: 8.30 Uhr\, Bhf. Aschau\, Fahrgem. Anmeldung bis 26.9. bei Jeannette 
 Neumeyer
CATEGORIES:Bergtour
END:VEVENT
BEGIN:VTIMEZONE
TZID:Europe/Berlin
X-LIC-LOCATION:Europe/Berlin
BEGIN:DAYLIGHT
DTSTART:20250330T030000
TZOFFSETFROM:+0100
TZOFFSETTO:+0200
TZNAME:CEST
END:DAYLIGHT
END:VTIMEZONE
END:VCALENDAR