BEGIN:VCALENDAR
VERSION:2.0
PRODID:-//wp-events-plugin.com//7.2.1//EN
TZID:Europe/Berlin
X-WR-TIMEZONE:Europe/Berlin
BEGIN:VEVENT
UID:190@dav-leitzachtal.de
DTSTART;TZID=Europe/Berlin;VALUE=DATE:20230814
DTEND;TZID=Europe/Berlin;VALUE=DATE:20230817
DTSTAMP:20230605T102705Z
URL:https://www.dav-leitzachtal.de/wp-touren/events/kaisertour/
SUMMARY:Kaiser Tour
DESCRIPTION:VON KUFSTEIN ZUM STRIPSENJOCHHAUS UND ÜBER DIE PYRAMIDENSPITZE
  ZUR RITZAU ALM\n\nSchöne Tour von Kaisebachtal zum Stripsenjochhaus und 
 Stripsenkopf mit Übernachtung und am nächsten Tag über die Pyramidenspi
 tze zur Ritzau Alm.\n\nDetails und Reservierung bei Birgit Wörndl\n\n&nbs
 p\;
CATEGORIES:Bergtour
END:VEVENT
BEGIN:VTIMEZONE
TZID:Europe/Berlin
X-LIC-LOCATION:Europe/Berlin
BEGIN:DAYLIGHT
DTSTART:20230326T030000
TZOFFSETFROM:+0100
TZOFFSETTO:+0200
TZNAME:CEST
END:DAYLIGHT
END:VTIMEZONE
END:VCALENDAR