BEGIN:VCALENDAR
VERSION:2.0
PRODID:-//wp-events-plugin.com//7.2.1//EN
TZID:Europe/Berlin
X-WR-TIMEZONE:Europe/Berlin
BEGIN:VEVENT
UID:130@dav-leitzachtal.de
DTSTART;TZID=Europe/Berlin:20221104T190000
DTEND;TZID=Europe/Berlin:20221104T200000
DTSTAMP:20220929T174719Z
URL:https://www.dav-leitzachtal.de/wp-touren/events/jugend-vollversammlung
 -der-jugend-der-sektion-leitzachtal/
SUMMARY:Jugend-Vollversammlung der Jugend der Sektion Leitzachtal
DESCRIPTION:Am 04.11.22 um 19 Uhr im Kletterstadl\, für alle Sektionsmitgl
 ieder der DAV Sektion Leitzachtal bis 27 Jahre. Mitmachen im Alpenverein i
 st nur was für Erwachsene?! Nein\, auch wir als Jugend dürfen unsere Sek
 tion aktiv mitgestalten! Bei der Jugend-Vollversammlung könnt Ihr eure W
 ünsche\, Vorschläge und Ideen einbringen\, wie wir das Vereinsleben für
  euch noch schöner machen können\, egal ob es um den Kletterstadl\, Ausf
 lüge oder andere Aktivitäten rund um das Thema Berge geht. Zusammen blic
 ken wir mit euch auch auf die Aktivitäten und Ausflüge des vergangenen J
 ahres zurück. Anmeldung bis 02.11.22 bei Anja (Jugendreferentin) unter ju
 gend@dav-leitzachtal.de
CATEGORIES:Jugendgruppe,Vortrag
END:VEVENT
BEGIN:VTIMEZONE
TZID:Europe/Berlin
X-LIC-LOCATION:Europe/Berlin
BEGIN:STANDARD
DTSTART:20221030T020000
TZOFFSETFROM:+0200
TZOFFSETTO:+0100
TZNAME:CET
END:STANDARD
END:VTIMEZONE
END:VCALENDAR