BEGIN:VCALENDAR
VERSION:2.0
PRODID:-//wp-events-plugin.com//7.2.1//EN
TZID:Europe/Berlin
X-WR-TIMEZONE:Europe/Berlin
BEGIN:VEVENT
UID:81@dav-leitzachtal.de
DTSTART;TZID=Europe/Berlin;VALUE=DATE:20220415
DTEND;TZID=Europe/Berlin;VALUE=DATE:20220418
DTSTAMP:20220406T161001Z
URL:https://www.dav-leitzachtal.de/wp-touren/events/jugend-skihochtourenwo
 chenende-an-ostern/
SUMMARY:JUGEND - Skihochtourenwochenende an Ostern
DESCRIPTION:Die Skitourensaison neigt sich dem Ende zu\, aber ein Highlight
  wartet noch: Das Skihochtourenwochenende von Karfreitag bis Ostersonntag 
 im Zillertal. Am Freitag Treffpunkt um 7:00 Uhr am Bahnhof Hausham\, Fahrt
  ins Zillertal und Zustieg zur Berliner Hütte\,  ggf. weitere kurze Feie
 rabend-Skitour\, am Samstag Skitour in den 3000ern um die Berliner Hütte\
 , am Sonntag nochmal kürzere Skitour und Heimfahrt. ACHTUNG: Ausrüstung 
 für Skihochtouren inkl. (HELM &amp\; LVS/Schaufel/Sonde)\, Übernachtung 
 sowie sichere Skitechnik in Aufstieg &amp\; Abfahrt erforderlich!!! Anmeld
 ung wegen Hüttenreservierung &amp\; Mitfahrtgelegenheit bis spätestens 1
 2.04.22. Weitere Infos &amp\; Anmeldung bei Anian Bichlmaier oder jugend@d
 av-leitzachtal.de.
CATEGORIES:Hochtour,Jugendgruppe,Skitour
END:VEVENT
BEGIN:VTIMEZONE
TZID:Europe/Berlin
X-LIC-LOCATION:Europe/Berlin
BEGIN:DAYLIGHT
DTSTART:20220327T030000
TZOFFSETFROM:+0100
TZOFFSETTO:+0200
TZNAME:CEST
END:DAYLIGHT
END:VTIMEZONE
END:VCALENDAR