BEGIN:VCALENDAR
VERSION:2.0
PRODID:-//wp-events-plugin.com//7.2.1//EN
TZID:Europe/Berlin
X-WR-TIMEZONE:Europe/Berlin
BEGIN:VEVENT
UID:110@dav-leitzachtal.de
DTSTART;TZID=Europe/Berlin;VALUE=DATE:20220504
DTEND;TZID=Europe/Berlin;VALUE=DATE:20220505
DTSTAMP:20220501T120900Z
URL:https://www.dav-leitzachtal.de/wp-touren/events/jaegerkamp-1746-m/
SUMMARY:Jägerkamp (1746 m)
DESCRIPTION:Die Oberlandler Seniorengruppe unternimmt am Mittwoch\, den 4. 
 Mai eine Bergwanderung auf den Jägerkamp (1746 m).\n\nVom Spitzingsattel 
 aus geht es über den Sommerweg zur Schönfeldhütte und weiter über die 
 Spitzingalmen auf den Gipfel. Der Aufstieg dauert ca. 2 Std. Der Rückweg 
 erfolgt entweder über Tanzeck und Schnittlauchmoos oder über die "Wilden
  Fräulein" je nach Wetter und Verhältnissen.\nTreffpunkt ist um 9 Uhr am
  Bahnhof in Neuhaus\, um 9.10 Uhr mit Bus zum Spitzingsattel.\nAnmeldung u
 nd Infos bei Julia Riedl\, Tel. 08028/1229
CATEGORIES:Bergtour,Oberlandler-Senioren
END:VEVENT
BEGIN:VTIMEZONE
TZID:Europe/Berlin
X-LIC-LOCATION:Europe/Berlin
BEGIN:DAYLIGHT
DTSTART:20220327T030000
TZOFFSETFROM:+0100
TZOFFSETTO:+0200
TZNAME:CEST
END:DAYLIGHT
END:VTIMEZONE
END:VCALENDAR