BEGIN:VCALENDAR
VERSION:2.0
PRODID:-//wp-events-plugin.com//7.2.1//EN
TZID:Europe/Berlin
X-WR-TIMEZONE:Europe/Berlin
BEGIN:VEVENT
UID:33@dav-leitzachtal.de
DTSTART;TZID=Europe/Berlin;VALUE=DATE:20210716
DTEND;TZID=Europe/Berlin;VALUE=DATE:20210719
DTSTAMP:20210624T153342Z
URL:https://www.dav-leitzachtal.de/wp-touren/events/huettenwochenende-am-t
 hiersee-fam-gruppe/
SUMMARY:Hüttenwochenende am Thiersee (Fam. Gruppe)
DESCRIPTION:Infos und Anmeldung bei Rainer Preuschl
CATEGORIES:Familiengruppe
END:VEVENT
BEGIN:VTIMEZONE
TZID:Europe/Berlin
X-LIC-LOCATION:Europe/Berlin
BEGIN:DAYLIGHT
DTSTART:20210328T030000
TZOFFSETFROM:+0100
TZOFFSETTO:+0200
TZNAME:CEST
END:DAYLIGHT
END:VTIMEZONE
END:VCALENDAR