BEGIN:VCALENDAR
VERSION:2.0
PRODID:-//wp-events-plugin.com//7.2.1//EN
TZID:Europe/Berlin
X-WR-TIMEZONE:Europe/Berlin
BEGIN:VEVENT
UID:89@dav-leitzachtal.de
DTSTART;TZID=Europe/Berlin;VALUE=DATE:20220702
DTEND;TZID=Europe/Berlin;VALUE=DATE:20220703
DTSTAMP:20220419T235524Z
URL:https://www.dav-leitzachtal.de/wp-touren/events/hoerndlwand-1684-m-gur
 nwandkopf-1691-m-chiemgauer-alpen/
SUMMARY:Hörndlwand 1684 m\, Gurnwandkopf 1691 m\, Chiemgauer Alpen
DESCRIPTION:Abwechslungsreiche\, mittelschwere Bergtour\, von Seehaus/Ruhpo
 lding über Jägersteig\,\nFelspassagen\, die Schwindelfreiheit und Tritts
 icherheit erfordern\, Übergang\nz. Gurnwand\, einfacher Abst. über Oster
 tal\, Gehzeit ca. 5 Std./1000 Hm\nTP: Nach Vereinbarung\, Anmeldung bis 30
 .6. bei Franz Schnitzlbaumer
CATEGORIES:Bergtour
END:VEVENT
BEGIN:VTIMEZONE
TZID:Europe/Berlin
X-LIC-LOCATION:Europe/Berlin
BEGIN:DAYLIGHT
DTSTART:20220327T030000
TZOFFSETFROM:+0100
TZOFFSETTO:+0200
TZNAME:CEST
END:DAYLIGHT
END:VTIMEZONE
END:VCALENDAR