BEGIN:VCALENDAR
VERSION:2.0
PRODID:-//wp-events-plugin.com//7.2.1//EN
TZID:Europe/Berlin
X-WR-TIMEZONE:Europe/Berlin
BEGIN:VEVENT
UID:119@dav-leitzachtal.de
DTSTART;TZID=Europe/Berlin;VALUE=DATE:20220910
DTEND;TZID=Europe/Berlin;VALUE=DATE:20220912
DTSTAMP:20220818T190417Z
URL:https://www.dav-leitzachtal.de/wp-touren/events/hochtour-fuer-fortgesc
 hrittene-mit-uebernachtung-jugend/
SUMMARY:Hochtour für Fortgeschrittene mit Übernachtung - JUGEND
DESCRIPTION:Hochtour für Fortgeschrittene mit Übernachtung\, Hochtourenau
 srüstung erforderlich! Treffpunkt um 8 Uhr am Kletterstadl in Aurach. Nur
  mit HELM! Infos und Anmeldung bis 30.08.22 bei Anian Bichlmaier oder unte
 r jugend@dav-leitzachtal.de.
CATEGORIES:Hochtour,Jugendgruppe
END:VEVENT
BEGIN:VTIMEZONE
TZID:Europe/Berlin
X-LIC-LOCATION:Europe/Berlin
BEGIN:DAYLIGHT
DTSTART:20220327T030000
TZOFFSETFROM:+0100
TZOFFSETTO:+0200
TZNAME:CEST
END:DAYLIGHT
END:VTIMEZONE
END:VCALENDAR