BEGIN:VCALENDAR
VERSION:2.0
PRODID:-//wp-events-plugin.com//7.2.1//EN
TZID:Europe/Berlin
X-WR-TIMEZONE:Europe/Berlin
BEGIN:VEVENT
UID:191@dav-leitzachtal.de
DTSTART;TZID=Europe/Berlin;VALUE=DATE:20230617
DTEND;TZID=Europe/Berlin;VALUE=DATE:20230619
DTSTAMP:20230608T170253Z
URL:https://www.dav-leitzachtal.de/wp-touren/events/hochtour-auf-den-gross
 en-moeseler-3479-m-zillertaler-alpen/
SUMMARY:Großer Möseler 3479 m\, Zillertaler Alpen
DESCRIPTION:Mittelschwere Hochtour mit Gletscherkontakt und leichten Klette
 rstellen (I-II UIAA). Übernachtung auf dem Furtschagelhaus. Aufstieg zur 
 Hütte am Samstag (ca. 2\,5 Std). Sonntag Gipfeltag mit 1200 hm (ca. 4 Std
  Aufstieg).\nTreffpunkt: 10:00 Uhr Kletterstadl Aurach.
CATEGORIES:Hochtour
END:VEVENT
BEGIN:VTIMEZONE
TZID:Europe/Berlin
X-LIC-LOCATION:Europe/Berlin
BEGIN:DAYLIGHT
DTSTART:20230326T030000
TZOFFSETFROM:+0100
TZOFFSETTO:+0200
TZNAME:CEST
END:DAYLIGHT
END:VTIMEZONE
END:VCALENDAR