BEGIN:VCALENDAR
VERSION:2.0
PRODID:-//wp-events-plugin.com//7.2.1//EN
TZID:Europe/Berlin
X-WR-TIMEZONE:Europe/Berlin
BEGIN:VEVENT
UID:196@dav-leitzachtal.de
DTSTART;TZID=Europe/Berlin;VALUE=DATE:20231015
DTEND;TZID=Europe/Berlin;VALUE=DATE:20231016
DTSTAMP:20231009T161205Z
URL:https://www.dav-leitzachtal.de/wp-touren/events/hochplatte-1587-m-chie
 mgauer-alpen/
SUMMARY:Abgesagt! Hochplatte 1587 m\, Chiemgauer Alpen
DESCRIPTION:Wegen Erkrankungen des Tourenleiters kann die  Tour leider nic
 ht stattfinden.\n\n&nbsp\;
CATEGORIES:Bergtour
END:VEVENT
BEGIN:VTIMEZONE
TZID:Europe/Berlin
X-LIC-LOCATION:Europe/Berlin
BEGIN:DAYLIGHT
DTSTART:20230326T030000
TZOFFSETFROM:+0100
TZOFFSETTO:+0200
TZNAME:CEST
END:DAYLIGHT
END:VTIMEZONE
END:VCALENDAR