BEGIN:VCALENDAR
VERSION:2.0
PRODID:-//wp-events-plugin.com//7.2.1//EN
TZID:Europe/Berlin
X-WR-TIMEZONE:Europe/Berlin
BEGIN:VEVENT
UID:125@dav-leitzachtal.de
DTSTART;TZID=Europe/Berlin;VALUE=DATE:20221001
DTEND;TZID=Europe/Berlin;VALUE=DATE:20221002
DTSTAMP:20220918T171846Z
URL:https://www.dav-leitzachtal.de/wp-touren/events/hochplatte-1586-m-habe
 rspitz-1431-m-chiemgauer-alpen/
SUMMARY:Hochplatte 1586 m\, Haberspitz 1431 m\, Chiemgauer Alpen
DESCRIPTION:Leichte Bergwanderung\, Einkehr Staffnalm\, Aufst. v. Talst. ca
 . 2\,5 Std./1000 Hm\nTreffpunkt: 7.30 Uhr\, Kletterstadl Aurach\,\n\nAnmel
 dung bis 29.9. bei Erich Berger-Hofmann\, Tel. 0163 5502970
CATEGORIES:Bergtour,Wandern
END:VEVENT
BEGIN:VTIMEZONE
TZID:Europe/Berlin
X-LIC-LOCATION:Europe/Berlin
BEGIN:DAYLIGHT
DTSTART:20220327T030000
TZOFFSETFROM:+0100
TZOFFSETTO:+0200
TZNAME:CEST
END:DAYLIGHT
END:VTIMEZONE
END:VCALENDAR