BEGIN:VCALENDAR
VERSION:2.0
PRODID:-//wp-events-plugin.com//7.2.1//EN
TZID:Europe/Berlin
X-WR-TIMEZONE:Europe/Berlin
BEGIN:VEVENT
UID:186@dav-leitzachtal.de
DTSTART;TZID=Europe/Berlin;VALUE=DATE:20230603
DTEND;TZID=Europe/Berlin;VALUE=DATE:20230605
DTSTAMP:20230504T052413Z
URL:https://www.dav-leitzachtal.de/wp-touren/events/hochiss-2299-m-ebner-j
 och-1957-m-rofan/
SUMMARY:Hochiss 2299 m\, Ebner Joch 1957 m\, Rofan
DESCRIPTION:Mittelschwere Bergtour v. Achenkirch üb. Dalfazalm z. Hochiss 
 u. z. Erfurter Hütte\n(Übern.) So: Ebner Joch\, Abst. n. Eben u. mit Bus
  zurück nach Achenkirch\nAufstiege ca. 5 – 6 Std./1000 – 1200 Hm\, TN
 -Gebühr 8.- EUR\nTP: Nach Vereinbarung\, Anmeldung bis 30.05.bei Birgit W
 örndl
CATEGORIES:Bergtour
END:VEVENT
BEGIN:VTIMEZONE
TZID:Europe/Berlin
X-LIC-LOCATION:Europe/Berlin
BEGIN:DAYLIGHT
DTSTART:20230326T030000
TZOFFSETFROM:+0100
TZOFFSETTO:+0200
TZNAME:CEST
END:DAYLIGHT
END:VTIMEZONE
END:VCALENDAR