BEGIN:VCALENDAR
VERSION:2.0
PRODID:-//wp-events-plugin.com//7.2.1//EN
TZID:Europe/Berlin
X-WR-TIMEZONE:Europe/Berlin
BEGIN:VEVENT
UID:195@dav-leitzachtal.de
DTSTART;TZID=Europe/Berlin;VALUE=DATE:20230930
DTEND;TZID=Europe/Berlin;VALUE=DATE:20231001
DTSTAMP:20230928T143023Z
URL:https://www.dav-leitzachtal.de/wp-touren/events/hochgern-1744-m-chiemg
 auer-alpen/
SUMMARY:Abgesagt! Hochgern 1744 m
DESCRIPTION:Diese Tour musste  leider von unserm Tourenleiter abgesagt wer
 den.\n\n&nbsp\;\n\nHochgern 1744 m\, Chiemgauer Alpen\nBergtour auf markan
 ten Aussichtsgipfel\, Aufst. 3\,5 Std./1150 Hm.\nTP: 7.00 Uhr\, Klettersta
 dl Aurach\, Anmeldung bei Erich Berger-Hofmann
END:VEVENT
BEGIN:VTIMEZONE
TZID:Europe/Berlin
X-LIC-LOCATION:Europe/Berlin
BEGIN:DAYLIGHT
DTSTART:20230326T030000
TZOFFSETFROM:+0100
TZOFFSETTO:+0200
TZNAME:CEST
END:DAYLIGHT
END:VTIMEZONE
END:VCALENDAR