BEGIN:VCALENDAR
VERSION:2.0
PRODID:-//wp-events-plugin.com//7.2.1//EN
TZID:Europe/Berlin
X-WR-TIMEZONE:Europe/Berlin
BEGIN:VEVENT
UID:21@dav-leitzachtal.de
DTSTART;TZID=Europe/Berlin;VALUE=DATE:20210404
DTEND;TZID=Europe/Berlin;VALUE=DATE:20210405
DTSTAMP:20201215T181042Z
URL:https://www.dav-leitzachtal.de/wp-touren/events/hochfelln-1-671-m-chie
 mgauer-alpen/
SUMMARY:Hochfelln (1.671 m)\, Chiemgauer Alpen
DESCRIPTION:Mittelschwere Bergwanderung auf (zumindest beim Aufstieg!) weni
 g frequentierten Wegen und\nSteigen von Kohlstatt auf den „Seilbahnberg
 “ Hochfelln. Die Aussicht auf den Chiemsee\, zum\nHochgern und in die Al
 pen entschädigt für den sehr gut besuchten Gipfel. Beim Aufstieg einige\
 nFelspassagen\, die gutes Schuhwerk und eine gewisse „Trittsicherheit“
  erfordern. Abstieg auf dem\nHochfellnweg zur Bründling Alm und über die
  Gleichenberg Alm zum Ausgangspunkt. Diverse\nEinkehrmöglichkeiten (Hochf
 ellnhaus\, Bründling Alm\, Öderkaser\, Bachschmied-Kaser oder\nGleichenb
 erg Alm) - (insgesamt 950 Höhenmeter\, Gehzeit ca. 6\,5 Std.).\nTreffpunk
 t nach Vereinbarung\, Anmeldung bei Franz Schnitzlbaumer
CATEGORIES:Wandern
LOCATION:Hochfelln\, Chiemgauer\, Alpen\, Deutschland
X-APPLE-STRUCTURED-LOCATION;VALUE=URI;X-ADDRESS=Chiemgauer\, Alpen\, Deutsc
 hland;X-APPLE-RADIUS=100;X-TITLE=Hochfelln:geo:0,0
END:VEVENT
BEGIN:VTIMEZONE
TZID:Europe/Berlin
X-LIC-LOCATION:Europe/Berlin
BEGIN:DAYLIGHT
DTSTART:20210328T030000
TZOFFSETFROM:+0100
TZOFFSETTO:+0200
TZNAME:CEST
END:DAYLIGHT
END:VTIMEZONE
END:VCALENDAR