BEGIN:VCALENDAR
VERSION:2.0
PRODID:-//wp-events-plugin.com//7.2.1//EN
TZID:Europe/Berlin
X-WR-TIMEZONE:Europe/Berlin
BEGIN:VEVENT
UID:161@dav-leitzachtal.de
DTSTART;TZID=Europe/Berlin;VALUE=DATE:20230811
DTEND;TZID=Europe/Berlin;VALUE=DATE:20230816
DTSTAMP:20221226T142025Z
URL:https://www.dav-leitzachtal.de/wp-touren/events/hochalpine-trails-im-v
 inschgau/
SUMMARY:Hochalpine Trails im Vinschgau
DESCRIPTION:Hochalpine Singletrails und leckere Südtiroler Küche\n\n\n\nD
 as legendär warme und trockene Klima sowie die unzähligen Trails machen 
 den Vinschgau zu einem der besten Trailreviere in den Alpen. An insgesamt 
 vier Tagen geht’s hoch hinaus zu atemberaubenden Panoramen und auf anspr
 uchsvollen technischen Naturtrails wieder zurück ins Tal\, wo uns südtir
 oler Leckereien erwarten.\n\n\n\nAnspruchsvolle technische Naturtrails und
  flowige Lines im Vinschgau (S2/S3 www.singletrail-skala.de). Tägl. bis z
 u 1500 hm kurbeln / schieben / tragen + opt. Shuttle. Übern. im Hotel. En
 duro Fully mit mind. 150 mm und Helm / Protektoren erforderlich. TN-Geb. 2
 4.- Euro. TP und Fahrgemeinschaften werden nach Anmeldung (bei Alexander S
 trebel) vereinbart.
CATEGORIES:Mountainbike
END:VEVENT
BEGIN:VTIMEZONE
TZID:Europe/Berlin
X-LIC-LOCATION:Europe/Berlin
BEGIN:DAYLIGHT
DTSTART:20230326T030000
TZOFFSETFROM:+0100
TZOFFSETTO:+0200
TZNAME:CEST
END:DAYLIGHT
END:VTIMEZONE
END:VCALENDAR