BEGIN:VCALENDAR
VERSION:2.0
PRODID:-//wp-events-plugin.com//7.2.1//EN
TZID:Europe/Berlin
X-WR-TIMEZONE:Europe/Berlin
BEGIN:VEVENT
UID:301@dav-leitzachtal.de
DTSTART;TZID=Europe/Berlin;VALUE=DATE:20250809
DTEND;TZID=Europe/Berlin;VALUE=DATE:20250810
DTSTAMP:20250807T143253Z
URL:https://www.dav-leitzachtal.de/wp-touren/events/hinteres-sonnwendjoch-
 1986-m-e-bike-hike-bayer-voralpen/
SUMMARY:Hinteres Sonnwendjoch 1986 m\, (E-)Bike & Hike\, Bayer. Voralpen
DESCRIPTION:Treffpunkt: 8:00 Uhr\, Parkplatz Bahnhof Bayrischzell. Von dort
  geht es mit dem E-MTB oder MTB zum Ursprungpass\, ab der Mautstelle auf e
 inen durchgängig geteerten Weg mittelschwer über die Ackernalm zur Bäre
 nbadalm ca. 900 HM/2Std.\nVon dort führt uns ein leicht zu gehender Bergw
 eg ca. 400 HM/ 1 1/2 Std. zum Aussichtsreichen Gipfelkreuz des Hinteren So
 nnwendjoch 1986m. Der Rückweg bzw. Fahrt entspricht der Hinfahrt. Auf dem
  Rückweg ist eine Einkehr auf der Ackernalm geplant. Gesamttour mit Pause
 n ca. 7 Stunden.\n\nAnmeldung und Rückfragen bitte bis Freitag den 08.08.
 2025 18:00 Uhr bei Berger-Hofmann Erich\, Tel: 0152 5799 1332 oder auch u
 nter leon0311@web.de
CATEGORIES:Bergtour,Mountainbike
END:VEVENT
BEGIN:VTIMEZONE
TZID:Europe/Berlin
X-LIC-LOCATION:Europe/Berlin
BEGIN:DAYLIGHT
DTSTART:20250330T030000
TZOFFSETFROM:+0100
TZOFFSETTO:+0200
TZNAME:CEST
END:DAYLIGHT
END:VTIMEZONE
END:VCALENDAR