BEGIN:VCALENDAR
VERSION:2.0
PRODID:-//wp-events-plugin.com//7.2.1//EN
TZID:Europe/Berlin
X-WR-TIMEZONE:Europe/Berlin
BEGIN:VEVENT
UID:88@dav-leitzachtal.de
DTSTART;TZID=Europe/Berlin;VALUE=DATE:20220626
DTEND;TZID=Europe/Berlin;VALUE=DATE:20220627
DTSTAMP:20220624T074236Z
URL:https://www.dav-leitzachtal.de/wp-touren/events/hintere-goinger-halt-2
 195-m-kaisergebirge/
SUMMARY:Hintere Goinger Halt 2195 m\, Kaisergebirge
DESCRIPTION:Mittelchwere Bergwanderung mit kurzen Felspassagen (Drahtseilve
 rsichert). Aufstieg vom Parkplatz Wochenbrunner Alm zum Ellmauer Tor 2
 006m\, von dort steil weiter\nzum Goinger Halt (1100HM ca. 3Std.). Der Au
 stieg erfordert Trittsicherheit und Schwindelfreiheit.  \n\nTreffpunkt: 
 6:30 Uhr\, Kletterstadl Aurach\, Benzingstraße 5. von dort in einer Fahr
 gemeinschaft zum Ausgangspunkt. Anmeldung\n\nbitte bis 24.06.2022 20:00 Uh
 r bei Berger-Hofmann Erich\, Tel: 0152 5799 1332.
CATEGORIES:Bergtour
END:VEVENT
BEGIN:VTIMEZONE
TZID:Europe/Berlin
X-LIC-LOCATION:Europe/Berlin
BEGIN:DAYLIGHT
DTSTART:20220327T030000
TZOFFSETFROM:+0100
TZOFFSETTO:+0200
TZNAME:CEST
END:DAYLIGHT
END:VTIMEZONE
END:VCALENDAR