BEGIN:VCALENDAR
VERSION:2.0
PRODID:-//wp-events-plugin.com//7.2.1//EN
TZID:Europe/Berlin
X-WR-TIMEZONE:Europe/Berlin
BEGIN:VEVENT
UID:50@dav-leitzachtal.de
DTSTART;TZID=Europe/Berlin;VALUE=DATE:20211107
DTEND;TZID=Europe/Berlin;VALUE=DATE:20211108
DTSTAMP:20211022T172110Z
URL:https://www.dav-leitzachtal.de/wp-touren/events/heuberg-1603m-kaiserge
 birge/
SUMMARY:Heuberg 1603m\, Kaisergebirge
DESCRIPTION:Mittelschwere Bergwanderung mit guter Aussicht. Aufstieg von Du
 rchholzen über verfallene Jöchlalm\, Trittsicherheit vom Vorteil\, ca. 2
 \,5h/850HM. entspannter Abstieg über Hageralm ca. 2h zum Ausgangspunkt zu
 rück. TP: 9:00 Uhr Wanderparkplatz Durchholzen\, ggf auch Fahrgemeinschaf
 ten dorthin. Anmeldung bis 06.11. bei Jeannette Neumeyer
CATEGORIES:Bergtour
END:VEVENT
BEGIN:VTIMEZONE
TZID:Europe/Berlin
X-LIC-LOCATION:Europe/Berlin
BEGIN:STANDARD
DTSTART:20211031T020000
TZOFFSETFROM:+0200
TZOFFSETTO:+0100
TZNAME:CET
END:STANDARD
END:VTIMEZONE
END:VCALENDAR