BEGIN:VCALENDAR
VERSION:2.0
PRODID:-//wp-events-plugin.com//7.2.1//EN
TZID:Europe/Berlin
X-WR-TIMEZONE:Europe/Berlin
BEGIN:VEVENT
UID:128@dav-leitzachtal.de
DTSTART;TZID=Europe/Berlin;VALUE=DATE:20221023
DTEND;TZID=Europe/Berlin;VALUE=DATE:20221024
DTSTAMP:20220918T173345Z
URL:https://www.dav-leitzachtal.de/wp-touren/events/herbstwanderung-je-nac
 h-verhaeltnissen/
SUMMARY:Herbstwanderung je nach Verhältnissen
DESCRIPTION:Bergtour oder Klettersteig - je nach Verhältnissen\, wie übli
 ch ohne lange Anfahrt\,\n\nFamilien mit Kindern 9-15 Jahre\, neue Familien
  sind Willkommen. gerne melden bei Rainer Preuschl Tel. 0179 9476566
CATEGORIES:Familiengruppe
END:VEVENT
BEGIN:VTIMEZONE
TZID:Europe/Berlin
X-LIC-LOCATION:Europe/Berlin
BEGIN:DAYLIGHT
DTSTART:20220327T030000
TZOFFSETFROM:+0100
TZOFFSETTO:+0200
TZNAME:CEST
END:DAYLIGHT
END:VTIMEZONE
END:VCALENDAR