BEGIN:VCALENDAR
VERSION:2.0
PRODID:-//wp-events-plugin.com//7.2.1//EN
TZID:Europe/Berlin
X-WR-TIMEZONE:Europe/Berlin
BEGIN:VEVENT
UID:183@dav-leitzachtal.de
DTSTART;TZID=Europe/Berlin:20230512T200000
DTEND;TZID=Europe/Berlin:20230512T214500
DTSTAMP:20230503T061933Z
URL:https://www.dav-leitzachtal.de/wp-touren/events/hauptversammlung/
SUMMARY:Hauptversammlung
DESCRIPTION:Hauptversammlung 2023\, DAV-Sektion Leitzachtal\nFreitag 12. Ma
 i 2023 um 20.00\,\nGasthof Kirchstiegl\, Fischbachau\n\nTagesordnung\n\n1.
  Begrüßung\n2. Berichte\na. des 1. Vorsitzenden\nb. der Schatzmeisterin\
 nc. des Naturschutzreferenten\nd. der Jugendreferentin\ne. des Familiengru
 ppenleiters\nf. des Wegereferenten\ng. der Seniorengruppe\n3. Bericht der 
 Kassenprüfer\, Entlastung des Vorstandes\n5. Wahlen\n6. Klimaschutzkonzep
 t\n7. Ehrungen\n8. Verschiedenes\nEhrungen für langjährige Mitgliedschaf
 t: Wir laden herzlich ein\n70 Jahre Mitgliedschaft: Pabst Gerdi\n60 Jahre 
 Mitgliedschaft: Estner Georg\, Schuster Klaus\, Lintzmeyer Klaus\n50 Jahre
  Mitgliedschaft: Wiedemann Christoph\, Scheda Otto\, Fees Ursula\, Aurache
 r\nBarbara\, Meindl Michaela\n40 Jahre Mitgliedschaft: Karg Ingmar\, Deise
 nrieder Monika\, Glasl-Six Gaby\,\nv. Bethusy-Huc Andrea\n25 Jahre Mitglie
 dschaft: Fuchs Daniela\, Fuchs Bernhard\, Mayrhofer Klaus\, Färber Frank\
 ,\nKamp Norbert\, Dambach Daniel\, Taubenberger Regina\, Stiller\nVeronika
 \, Hofberger Andreas\, Seidl Florian\, Seidl Michael\,\nReichenberger Andr
 eas\, Reichenberger Michael\, Rogge Sabine\,\nMeßner Cornelia\, Boettler 
 Simon\, Attenberger Sigrid\,\nAttenberger Tobias
CATEGORIES:Vortrag
END:VEVENT
BEGIN:VTIMEZONE
TZID:Europe/Berlin
X-LIC-LOCATION:Europe/Berlin
BEGIN:DAYLIGHT
DTSTART:20230326T030000
TZOFFSETFROM:+0100
TZOFFSETTO:+0200
TZNAME:CEST
END:DAYLIGHT
END:VTIMEZONE
END:VCALENDAR